Workbook

Sheet 金弘
A1: 农村客运2022年费改税补贴资金发放明细（公示）
A2: 企业名称（盖章):鸡西市城子河区金弘运输有限责任公司 时间： 年 月 日
B3: 车牌号 | C3: 营运证号 | D3: 车龄 | E3: 营运天数 | G3: 营运天数 | H3: 里程（公里） | I3: 耗油量（升） | K3: 2021年扣减金额（元） | L3: 2022年应补贴金额（元） | M3: 2022年实际补贴金额（元）
E4: 1—2月 | F4: 3-4月 | I4: 汽油 | J4: 柴油
A5: 1 | B5: 黑GB7153 | C5: 230306900027 | D5: 3.8 | G5: 345 | H5: 66240.6 | I5: 17235.8 | K5: =VLOOKUP(B5,[1]城子河区!$B$3:$N$16,13,FALSE) -> -3179.84 | L5: =ROUND(I5*1.23207780944644,2) -> 21235.85 | M5: =K5+L5 -> 18056.01
A6: 2 | B6: 黑GB7162 | C6: 230306900005 | D6: 3.8 | G6: 345 | H6: 66301.1 | I6: 17251.52 | K6: =VLOOKUP(B6,[1]城子河区!$B$3:$N$16,13,FALSE) -> -3123.85 | L6: =ROUND(I6*1.23207780944644,2) -> 21255.21 | M6: =K6+L6 -> 18131.36
A7: 3 | B7: 黑GB7203 | C7: 230306900018 | D7: 3.8 | G7: 345 | H7: 66286.5 | I7: 17247.74 | K7: =VLOOKUP(B7,[1]城子河区!$B$3:$N$16,13,FALSE) -> -3124.53 | L7: =ROUND(I7*1.23207780944644,2) -> 21250.56 | M7: =K7+L7 -> 18126.03
A8: 4 | B8: 黑GB7213 | C8: 230306900008 | D8: 3.8 | G8: 345 | H8: 66268.1 | I8: 17242.95 | K8: =VLOOKUP(B8,[1]城子河区!$B$3:$N$16,13,FALSE) -> -3225.06 | L8: =ROUND(I8*1.23207780944644,2) -> 21244.66 | M8: =K8+L8 -> 18019.6
A9: 5 | B9: 黑GB7323 | C9: 230306900015 | D9: 3.8 | G9: 345 | H9: 66263.7 | I9: 17241.81 | K9: =VLOOKUP(B9,[1]城子河区!$B$3:$N$16,13,FALSE) -> -3230.76 | L9: =ROUND(I9*1.23207780944644,2) -> 21243.25 | M9: =K9+L9 -> 18012.49
A10: 6 | B10: 黑GB7603 | C10: 230306900014 | D10: 3.8 | G10: 345 | H10: 66253.2 | I10: 17239.08 | K10: =VLOOKUP(B10,[1]城子河区!$B$3:$N$16,13,FALSE) -> -3196.42 | L10: =ROUND(I10*1.23207780944644,2) -> 21239.89 | M10: =K10+L10 -> 18043.47
A11: 7 | B11: 黑GB7612 | C11: 230306900009 | D11: 3.8 | G11: 345 | H11: 66291.8 | I11: 17249.12 | K11: =VLOOKUP(B11,[1]城子河区!$B$3:$N$16,13,FALSE) -> -3163.7 | L11: =ROUND(I11*1.23207780944644,2) -> 21252.26 | M11: =K11+L11 -> 18088.56
A12: 8 | B12: 黑GB7620 | C12: 230306900007 | D12: 3.8 | G12: 345 | H12: 66275.4 | I12: 17244.85 | K12: =VLOOKUP(B12,[1]城子河区!$B$3:$N$16,13,FALSE) -> -3097.7 | L12: =ROUND(I12*1.23207780944644,2) -> 21247 | M12: =K12+L12 -> 18149.3
A13: 9 | B13: 黑GB7691 | C13: 230306900003 | D13: 3.8 | G13: 345 | H13: 66288.6 | I13: 17248.29 | K13: =VLOOKUP(B13,[1]城子河区!$B$3:$N$16,13,FALSE) -> -3235.81 | L13: =ROUND(I13*1.23207780944644,2) -> 21251.24 | M13: =K13+L13 -> 18015.43
A14: 10 | B14: 黑GB7960 | C14: 230306900013 | D14: 3.8 | G14: 345 | H14: 66272.9 | I14: 17244.2 | K14: =VLOOKUP(B14,[1]城子河区!$B$3:$N$16,13,FALSE) -> -3232.11 | L14: =ROUND(I14*1.23207780944644,2) -> 21246.2 | M14: =K14+L14 -> 18014.09
A15: 11 | B15: 黑G40276 | C15: 230306900020 | D15: 5.2 | G15: 0 | H15: 0 | I15: 0 | K15: =VLOOKUP(B15,[1]城子河区!$B$3:$N$16,13,FALSE) -> -906.68 | L15: 0 | M15: =K15+L15 -> -906.68
A16: 12 | B16: 黑G40675 | C16: 230306900023 | D16: 7.1 | G16: 0 | H16: 0 | I16: 0 | K16: =VLOOKUP(B16,[1]城子河区!$B$3:$N$16,13,FALSE) -> -846.77 | L16: 0 | M16: =K16+L16 -> -846.77
A17: 13 | B17: 黑G41169 | C17: 230300900024 | D17: 6.5 | G17: 0 | H17: 0 | I17: 0 | K17: =VLOOKUP(B17,[1]城子河区!$B$3:$N$16,13,FALSE) -> -906.68 | L17: 0 | M17: =K17+L17 -> -906.68
A18: 14 | B18: 黑GF4515 | C18: 230306900022 | D18: 5 | G18: 0 | H18: 0 | I18: 0 | K18: =VLOOKUP(B18,[1]城子河区!$B$3:$N$16,13,FALSE) -> -906.68 | L18: 0 | M18: =K18+L18 -> -906.68
A19: 合计 | G19: =SUM(G5:G18) -> 3450 | H19: =SUM(H5:H18) -> 662741.9 | I19: =SUM(I5:I18) -> 172445.36 | J19: =SUM(J5:J18) -> 0 | K19: =SUM(K5:K18) -> -35376.59 | L19: =SUM(L5:L18) -> 212466.12 | M19: =SUM(M5:M18) -> 177089.53
A20: （注）扣减金额说明：按照黑龙江省财政厅《关于调整下达2023年农村客运补贴资金和城市交通发展奖励资金费改税补贴资金的通知》(黑财指(建)〔2023〕231号)调减我市农村客运费改税补贴基数，该基数作为“十四五”(2021年-2025年)期间每年度固定数额补贴基数。 按照通知要求，需要对已完成兑现的2021年度农村客运费改税补贴资金按照调减后基数进行重新计算扣减金额，并在2022年度农村客运费改税补贴资金兑现中相应予以扣除。
