Workbook

Sheet 恒山
A1: 农村客运2022年费改税补贴资金发放明细（公示）
A2: 企业名称（盖章): 鸡西市恒山区个体运营[农客] 时间： 年 月 日
B3: 车牌号 | C3: 营运证号 | D3: 车龄 | E3: 营运天数 | G3: 营运天数 | H3: 里程（公里） | I3: 2022年耗油量（升） | K3: 2021年扣减金额（元） | L3: 2022年应补贴金额（元） | M3: 2022年实际补贴金额（元）
E4: 1—2月 | F4: 3-4月 | I4: 汽油 | J4: 柴油
A5: 1 | B5: 黑G22309 | C5: 230303900001 | D5: 13.2 | G5: 181 | H5: 11765 | J5: 3129.49 | K5: =VLOOKUP(B5,'[2]恒山区 (2)'!$B$3:$L$25,11,FALSE) -> -1900.18 | L5: =ROUND(J5*1.23207780944644,2) -> 3855.78 | M5: =L5+K5 -> 1955.6
A6: 2 | B6: 黑G22318 | C6: 230303900032 | D6: 13.2 | G6: 344 | H6: 22360 | J6: 5947.76 | K6: =VLOOKUP(B6,'[2]恒山区 (2)'!$B$3:$L$25,11,FALSE) -> -1880.06 | L6: =ROUND(J6*1.23207780944644,2) -> 7328.1 | M6: =L6+K6 -> 5448.04
A7: 3 | B7: 黑G23022 | C7: 230303900031 | D7: 13.1 | G7: 344 | H7: 22360 | J7: 5947.76 | K7: =VLOOKUP(B7,'[2]恒山区 (2)'!$B$3:$L$25,11,FALSE) -> -1889.39 | L7: =ROUND(J7*1.23207780944644,2) -> 7328.1 | M7: =L7+K7 -> 5438.71
A8: 4 | B8: 黑G24212 | C8: 230303900038 | D8: 13.1 | G8: 344 | H8: 22360 | J8: 5947.76 | K8: =VLOOKUP(B8,'[2]恒山区 (2)'!$B$3:$L$25,11,FALSE) -> -1890.84 | L8: =ROUND(J8*1.23207780944644,2) -> 7328.1 | M8: =L8+K8 -> 5437.26
A9: 5 | B9: 黑G22313 | C9: 230303900019 | D9: 13.1 | G9: 331 | H9: 50312 | J9: 13382.992 | K9: =VLOOKUP(B9,'[2]恒山区 (2)'!$B$3:$L$25,11,FALSE) -> -2442.59 | L9: =ROUND(J9*1.23207780944644,2) -> 16488.89 | M9: =L9+K9 -> 14046.3
A10: 6 | B10: 黑G22281 | C10: 230303900022 | D10: 13.2 | G10: 320 | H10: 59200 | J10: 15747.2 | K10: =VLOOKUP(B10,'[2]恒山区 (2)'!$B$3:$L$25,11,FALSE) -> -3156.22 | L10: =ROUND(J10*1.23207780944644,2) -> 19401.78 | M10: =L10+K10 -> 16245.56
A11: 7 | B11: 黑G22327 | C11: 230303900012 | D11: 13 | G11: 320 | H11: 59200 | J11: 15747.2 | K11: =VLOOKUP(B11,'[2]恒山区 (2)'!$B$3:$L$25,11,FALSE) -> -3116.93 | L11: =ROUND(J11*1.23207780944644,2) -> 19401.78 | M11: =L11+K11 -> 16284.85
A12: 8 | B12: 黑G22042 | C12: 230303900048 | D12: 15.5 | G12: 90 | H12: 13320 | J12: 3543.12 | K12: =VLOOKUP(B12,'[2]恒山区 (2)'!$B$3:$L$25,11,FALSE) -> -2514.51 | L12: =ROUND(J12*1.23207780944644,2) -> 4365.4 | M12: =L12+K12 -> 1850.89
A13: 9 | B13: 黑G22866 | C13: 230303900046 | D13: 13.5 | G13: 344 | H13: 50912 | J13: 13542.592 | K13: =VLOOKUP(B13,'[2]恒山区 (2)'!$B$3:$L$25,11,FALSE) -> -2495.45 | L13: =ROUND(J13*1.23207780944644,2) -> 16685.53 | M13: =L13+K13 -> 14190.08
A14: 10 | B14: 黑G22291 | C14: 230303900043 | D14: 13.2 | G14: 344 | H14: 17232 | J14: 4583.712 | K14: =VLOOKUP(B14,'[2]恒山区 (2)'!$B$3:$L$25,11,FALSE) -> -819.22 | L14: =ROUND(J14*1.23207780944644,2) -> 5647.49 | M14: =L14+K14 -> 4828.27
A15: 11 | B15: 黑G22315 | C15: 230303900008 | D15: 13.2 | G15: 344 | H15: 17232 | J15: 4583.712 | K15: =VLOOKUP(B15,'[2]恒山区 (2)'!$B$3:$L$25,11,FALSE) -> -813.04 | L15: =ROUND(J15*1.23207780944644,2) -> 5647.49 | M15: =L15+K15 -> 4834.45
A16: 12 | B16: 黑GB0113 | C16: 230303900050 | D16: 13.1 | G16: 344 | H16: 17232 | J16: 4583.712 | K16: =VLOOKUP(B16,'[2]恒山区 (2)'!$B$3:$L$25,11,FALSE) -> -812.73 | L16: =ROUND(J16*1.23207780944644,2) -> 5647.49 | M16: =L16+K16 -> 4834.76
... A19: 15 | B19: 黑G22337 | C19: 230303900034 | D19: 13.1 | G19: 300 | H19: 36000 | J19: 9576 | K19: =VLOOKUP(B19,'[2]恒山区 (2)'!$B$3:$L$25,11,FALSE) -> -1773.29 | L19: =ROUND(J19*1.23207780944644,2) -> 11798.38 | M19: =L19+K19 -> 10025.09
A20: 16 | B20: 黑G22063 | C20: =VLOOKUP(B20,[1]燃油消耗数据!$B$6:$H$28,7,FALSE) -> 230303900003 | D20: =VLOOKUP(B20,[1]燃油消耗数据!$B$6:$I$28,8,FALSE) -> 12.1 | G20: 0 | H20: 0 | J20: 0 | K20: -1909.53 | L20: 0 | M20: =L20+K20 -> -1909.53
A21: 17 | B21: 黑G22071 | C21: =VLOOKUP(B21,[1]燃油消耗数据!$B$6:$H$28,7,FALSE) -> 230303900017 | D21: =VLOOKUP(B21,[1]燃油消耗数据!$B$6:$I$28,8,FALSE) -> 12.1 | G21: 0 | H21: 0 | J21: 0 | K21: -1904.49 | L21: 0 | M21: =L21+K21 -> -1904.49
A22: 18 | B22: 黑G22292 | C22: =VLOOKUP(B22,[1]燃油消耗数据!$B$6:$H$28,7,FALSE) -> 230303900025 | D22: =VLOOKUP(B22,[1]燃油消耗数据!$B$6:$I$28,8,FALSE) -> 12.1 | G22: 0 | H22: 0 | J22: 0 | K22: -1901.62 | L22: 0 | M22: =L22+K22 -> -1901.62
A23: 19 | B23: 黑G22300 | C23: =VLOOKUP(B23,[1]燃油消耗数据!$B$6:$H$28,7,FALSE) -> 230303900049 | D23: =VLOOKUP(B23,[1]燃油消耗数据!$B$6:$I$28,8,FALSE) -> 12.2 | G23: 0 | H23: 0 | J23: 0 | K23: -1900.9 | L23: 0 | M23: =L23+K23 -> -1900.9
A24: 20 | B24: 黑G22263 | C24: =VLOOKUP(B24,[1]燃油消耗数据!$B$6:$H$28,7,FALSE) -> 230303900020 | D24: =VLOOKUP(B24,[1]燃油消耗数据!$B$6:$I$28,8,FALSE) -> 12.1 | G24: 0 | H24: 0 | J24: 0 | K24: -2036.91 | L24: 0 | M24: =L24+K24 -> -2036.91
A25: 21 | B25: 黑G22503 | C25: =VLOOKUP(B25,[1]燃油消耗数据!$B$6:$H$28,7,FALSE) -> 230303900007 | D25: =VLOOKUP(B25,[1]燃油消耗数据!$B$6:$I$28,8,FALSE) -> 11.5 | G25: 0 | H25: 0 | J25: 0 | K25: -2436.13 | L25: 0 | M25: =L25+K25 -> -2436.13
A26: 22 | B26: 黑G22846 | C26: =VLOOKUP(B26,[1]燃油消耗数据!$B$6:$H$28,7,FALSE) -> 230303900009 | D26: =VLOOKUP(B26,[1]燃油消耗数据!$B$6:$I$28,8,FALSE) -> 12.1 | G26: 0 | H26: 0 | J26: 0 | K26: -2270.68 | L26: 0 | M26: =L26+K26 -> -2270.68
A27: 23 | B27: 黑G23373 | C27: =VLOOKUP(B27,[1]燃油消耗数据!$B$6:$H$28,7,FALSE) -> 230303900027 | D27: =VLOOKUP(B27,[1]燃油消耗数据!$B$6:$I$28,8,FALSE) -> 12.1 | G27: 0 | H27: 0 | J27: 0 | K27: -2440.13 | L27: 0 | M27: =L27+K27 -> -2440.13
A28: 合计 | G28: =SUM(G5:G19) -> 4638 | H28: =SUM(H5:H19) -> 433949 | J28: =SUM(J5:J27) -> 115430.43 | K28: =SUM(K5:K27) -> -43922.6 | L28: =SUM(L5:L27) -> 142219.29 | M28: =SUM(M5:M27) -> 98296.69
A29: （注）扣减金额说明：按照黑龙江省财政厅《关于调整下达2023年农村客运补贴资金和城市交通发展奖励资金费改税补贴资金的通知》(黑财指(建)〔2023〕231号)调减我市农村客运费改税补贴基数，该基数作为“十四五”(2021年-2025年)期间每年度固定数额补贴基数。 按照通知要求，需要对已完成兑现的2021年度农村客运费改税补贴资金按照调减后基数进行重新计算扣减金额，并在2022年度农村客运费改税补贴资金兑现中相应予以扣除。
