Workbook

Sheet 同达 
A1: 农村客运2022年费改税补贴资金发放明细（公示）
A2: 企业名称（盖章):鸡西市鸡冠区同达汽车有限公司 时间： 年 月 日
B3: 车牌号 | C3: 营运证号 | D3: 车龄 | E3: 营运天数 | G3: 营运天数 | H3: 里程（公里） | I3: 耗油量（升） | K3: 2021年扣减金额（元） | L3: 2022年应补贴金额（元） | M3: 2022年实际补贴金额（元）
E4: 1—2月 | F4: 3-4月 | I4: 汽油 | J4: 柴油
A5: 1 | B5: 黑G10213 | C5: 230301910003 | D5: 10.3 | G5: 344 | H5: 77056 | J5: 20496.9 | K5: =VLOOKUP(B5,[1]出租车管理站!$B$6:$N$14,13,FALSE) -> -3833.09 | L5: =ROUND(J5*1.23207780944644,2) -> 25253.78 | M5: =K5+L5 -> 21420.69
A6: 2 | B6: 黑G11101 | C6: 230301910005 | D6: 8.9 | G6: 344 | H6: 77056 | J6: 20496.9 | K6: =VLOOKUP(B6,[1]出租车管理站!$B$6:$N$14,13,FALSE) -> -3833.09 | L6: =ROUND(J6*1.23207780944644,2) -> 25253.78 | M6: =K6+L6 -> 21420.69
A7: 3 | B7: 黑G11110 | C7: 230301910004 | D7: 8.9 | G7: 344 | H7: 77056 | J7: 20496.9 | K7: =VLOOKUP(B7,[1]出租车管理站!$B$6:$N$14,13,FALSE) -> -3833.09 | L7: =ROUND(J7*1.23207780944644,2) -> 25253.78 | M7: =K7+L7 -> 21420.69
A8: 4 | B8: 黑G11463 | C8: 230307910002 | D8: 9.3 | G8: 298 | H8: 35760 | J8: 9512.16 | K8: =VLOOKUP(B8,[1]出租车管理站!$B$6:$N$14,13,FALSE) -> -2053.39 | L8: =ROUND(J8*1.23207780944644,2) -> 11719.72 | M8: =K8+L8 -> 9666.33
A9: 5 | B9: 黑G12797 | C9: 230301910001 | D9: 6 | G9: 150 | H9: 15750 | J9: 4189.5 | K9: =VLOOKUP(B9,[1]出租车管理站!$B$6:$N$14,13,FALSE) -> -1822.91 | L9: =ROUND(J9*1.23207780944644,2) -> 5161.79 | M9: =K9+L9 -> 3338.88
A10: 6 | B10: 黑G05621 | C10: 230301 900048 | D10: 6.2 | G10: 75 | H10: 16875 | J10: 5290.31 | K10: =VLOOKUP(B10,[1]出租车管理站!$B$6:$N$14,13,FALSE) -> -3706.99 | L10: =ROUND(J10*1.23207780944644,2) -> 6518.07 | M10: =K10+L10 -> 2811.08
A11: 7 | B11: 黑G05656 | C11: 230301 900045 | D11: 6.2 | G11: 344 | H11: 77400 | J11: 24264.9 | K11: =VLOOKUP(B11,[1]出租车管理站!$B$6:$N$14,13,FALSE) -> -4472.15 | L11: =ROUND(J11*1.23207780944644,2) -> 29896.24 | M11: =K11+L11 -> 25424.09
A12: 8 | B12: 黑G11465 | C12: 230307910001 | D12: 10.1 | G12: 0 | H12: 0 | J12: 0 | K12: =VLOOKUP(B12,[1]出租车管理站!$B$6:$N$14,13,FALSE) -> -1540.04 | L12: 0 | M12: =K12+L12 -> -1540.04
A13: 9 | B13: 黑G11479 | C13: 230307910006 | D13: 10.1 | G13: 0 | H13: 0 | J13: 0 | K13: =VLOOKUP(B13,[1]出租车管理站!$B$6:$N$14,13,FALSE) -> -1552.01 | L13: 0 | M13: =K13+L13 -> -1552.01
A14: 合计 | G14: =SUM(G5:G13) -> 1899 | H14: =SUM(H5:H13) -> 376953 | J14: =SUM(J5:J13) -> 104747.57 | K14: =SUM(K5:K13) -> -26646.76 | L14: =SUM(L5:L13) -> 129057.16 | M14: =SUM(M5:M13) -> 102410.4
A15: （注）扣减金额说明：按照黑龙江省财政厅《关于调整下达2023年农村客运补贴资金和城市交通发展奖励资金费改税补贴资金的通知》(黑财指(建)〔2023〕231号)调减我市农村客运费改税补贴基数，该基数作为“十四五”(2021年-2025年)期间每年度固定数额补贴基数。 按照通知要求，需要对已完成兑现的2021年度农村客运费改税补贴资金按照调减后基数进行重新计算扣减金额，并在2022年度农村客运费改税补贴资金兑现中相应予以扣除。
